BEGIN:VCALENDAR
VERSION:2.0
PRODID:-//Valor Movement - ECPv6.15.20//NONSGML v1.0//EN
CALSCALE:GREGORIAN
METHOD:PUBLISH
X-WR-CALNAME:Valor Movement
X-ORIGINAL-URL:https://valormovement.org
X-WR-CALDESC:Events for Valor Movement
REFRESH-INTERVAL;VALUE=DURATION:PT1H
X-Robots-Tag:noindex
X-PUBLISHED-TTL:PT1H
BEGIN:VTIMEZONE
TZID:UTC
BEGIN:STANDARD
TZOFFSETFROM:+0000
TZOFFSETTO:+0000
TZNAME:UTC
DTSTART:20250101T000000
END:STANDARD
END:VTIMEZONE
BEGIN:VEVENT
DTSTART;VALUE=DATE:20260530
DTEND;VALUE=DATE:20260606
DTSTAMP:20260423T124545
CREATED:20251112T201152Z
LAST-MODIFIED:20251217T185205Z
UID:2171-1780099200-1780703999@valormovement.org
SUMMARY:Valor Filter of Hope Mission '26
DESCRIPTION:Valor is partnering with Filter of Hope for this amazing opportunity to provide water filters to those in need in Antigua\, Guatemala! We\, along with Filter of Hope\, believe that no one should have to live without clean drinking water and everyone deserves the opportunity to know Christ personally. Valor is excited to partner with Filter of Hope to make this vision a reality. This trip is in part a humanitarian aid project and Christian mission trip. We will be supplying communities with clean drinking water in conjunction with sharing the greater hope of Jesus Christ and the Gospel. \nCheckout a video from one of our previous trips!
URL:https://valormovement.org/event/valor-filter-of-hope-mission-26/
LOCATION:Filter of Hope Missions Base\, Antigua\, Guatemala
CATEGORIES:Service Mission
ATTACH;FMTTYPE=image/png:https://valormovement.org/wp-content/uploads/2025/11/Screenshot-2025-12-16-at-11.07.20.png
ORGANIZER;CN="Valor":MAILTO:shane.cannon@cru.org
END:VEVENT
END:VCALENDAR